Package: customProDB Version: 1.50.0 Command: /home/biocbuild/R/R/bin/R CMD INSTALL customProDB StartedAt: 2025-11-10 21:49:24 -0000 (Mon, 10 Nov 2025) EndedAt: 2025-11-10 21:50:23 -0000 (Mon, 10 Nov 2025) EllapsedTime: 58.2 seconds RetCode: 0 Status: OK