Package: customProDB Version: 1.50.0 Command: /home/biocbuild/R/R/bin/R CMD build --keep-empty-dirs --no-resave-data customProDB StartedAt: 2025-11-11 00:54:44 -0000 (Tue, 11 Nov 2025) EndedAt: 2025-11-11 00:56:29 -0000 (Tue, 11 Nov 2025) EllapsedTime: 105.1 seconds RetCode: 0 Status: OK PackageFile: customProDB_1.50.0.tar.gz PackageFileSize: 537.1 KiB