Package: customProDB Version: 1.50.0 Command: /home/biocbuild/bbs-3.22-bioc/R/bin/R CMD check --install=check:customProDB.install-out.txt --library=/home/biocbuild/bbs-3.22-bioc/R/site-library --timings customProDB_1.50.0.tar.gz StartedAt: 2025-11-11 22:44:06 -0500 (Tue, 11 Nov 2025) EndedAt: 2025-11-11 22:51:15 -0500 (Tue, 11 Nov 2025) EllapsedTime: 429.4 seconds RetCode: 1 Status: ERROR CheckDir: customProDB.Rcheck Warnings: NA