Package: customProDB Version: 1.48.0 Command: /Library/Frameworks/R.framework/Resources/bin/R CMD build --keep-empty-dirs --no-resave-data customProDB StartedAt: 2025-10-09 18:16:23 -0400 (Thu, 09 Oct 2025) EndedAt: 2025-10-09 18:19:02 -0400 (Thu, 09 Oct 2025) EllapsedTime: 158.9 seconds RetCode: 0 Status: OK PackageFile: customProDB_1.48.0.tar.gz PackageFileSize: 539.9 KiB