Package: customProDB Version: 1.48.0 Command: rm -rf customProDB.buildbin-libdir && mkdir customProDB.buildbin-libdir && /Users/biocbuild/BBS/utils/build-universal.sh customProDB_1.48.0.tar.gz /Library/Frameworks/R.framework/Resources/bin/R customProDB.buildbin-libdir StartedAt: 2025-10-10 13:11:11 -0400 (Fri, 10 Oct 2025) EndedAt: 2025-10-10 13:13:19 -0400 (Fri, 10 Oct 2025) EllapsedTime: 128.1 seconds RetCode: 0 Status: OK PackageFile: customProDB_1.48.0.tgz PackageFileSize: 718 KiB