Package: customCMPdb Version: 1.20.0 Command: /home/biocbuild/R/R/bin/R CMD INSTALL customCMPdb StartedAt: 2025-11-13 21:33:56 -0000 (Thu, 13 Nov 2025) EndedAt: 2025-11-13 21:34:20 -0000 (Thu, 13 Nov 2025) EllapsedTime: 24.5 seconds RetCode: 0 Status: OK