Package: customCMPdb Version: 1.20.0 Command: /home/biocbuild/R/R/bin/R CMD build --keep-empty-dirs --no-resave-data customCMPdb StartedAt: 2025-11-14 01:00:05 -0000 (Fri, 14 Nov 2025) EndedAt: 2025-11-14 01:03:10 -0000 (Fri, 14 Nov 2025) EllapsedTime: 184.8 seconds RetCode: 0 Status: OK PackageFile: customCMPdb_1.20.0.tar.gz PackageFileSize: 730.4 KiB