Package: customCMPdb Version: 1.20.0 Command: /home/biocbuild/bbs-3.22-bioc/R/bin/R CMD check --install=check:customCMPdb.install-out.txt --library=/home/biocbuild/bbs-3.22-bioc/R/site-library --timings customCMPdb_1.20.0.tar.gz StartedAt: 2025-11-11 22:43:15 -0500 (Tue, 11 Nov 2025) EndedAt: 2025-11-11 22:47:17 -0500 (Tue, 11 Nov 2025) EllapsedTime: 242.2 seconds RetCode: 0 Status: OK CheckDir: customCMPdb.Rcheck Warnings: 0