Package: customCMPdb Version: 1.18.0 Command: /home/biocbuild/bbs-3.21-bioc/R/bin/R CMD INSTALL customCMPdb StartedAt: 2025-10-05 15:25:30 -0400 (Sun, 05 Oct 2025) EndedAt: 2025-10-05 15:25:47 -0400 (Sun, 05 Oct 2025) EllapsedTime: 17.2 seconds RetCode: 0 Status: OK