Package: customCMPdb Version: 1.18.0 Command: /home/biocbuild/bbs-3.21-bioc/R/bin/R CMD build --keep-empty-dirs --no-resave-data customCMPdb StartedAt: 2025-10-01 17:03:07 -0400 (Wed, 01 Oct 2025) EndedAt: 2025-10-01 17:04:57 -0400 (Wed, 01 Oct 2025) EllapsedTime: 110.1 seconds RetCode: 0 Status: OK PackageFile: customCMPdb_1.18.0.tar.gz PackageFileSize: 683.6 KiB