Package: customCMPdb Version: 1.18.0 Command: /Library/Frameworks/R.framework/Resources/bin/R CMD build --keep-empty-dirs --no-resave-data customCMPdb StartedAt: 2025-10-02 22:22:00 -0400 (Thu, 02 Oct 2025) EndedAt: 2025-10-02 22:24:25 -0400 (Thu, 02 Oct 2025) EllapsedTime: 145.0 seconds RetCode: 0 Status: OK PackageFile: customCMPdb_1.18.0.tar.gz PackageFileSize: 694.1 KiB