Package: ctsGE Version: 1.36.0 Command: /home/biocbuild/bbs-3.22-bioc/R/bin/R CMD INSTALL ctsGE StartedAt: 2025-11-11 15:12:39 -0500 (Tue, 11 Nov 2025) EndedAt: 2025-11-11 15:12:53 -0500 (Tue, 11 Nov 2025) EllapsedTime: 14.0 seconds RetCode: 0 Status: OK