Package: ctsGE Version: 1.36.0 Command: /Library/Frameworks/R.framework/Resources/bin/R CMD INSTALL ctsGE StartedAt: 2025-11-10 15:04:50 -0500 (Mon, 10 Nov 2025) EndedAt: 2025-11-10 15:04:56 -0500 (Mon, 10 Nov 2025) EllapsedTime: 6.7 seconds RetCode: 0 Status: OK