Package: ctsGE Version: 1.36.0 Command: /Library/Frameworks/R.framework/Resources/bin/R CMD build --keep-empty-dirs --no-resave-data ctsGE StartedAt: 2025-11-10 16:04:55 -0500 (Mon, 10 Nov 2025) EndedAt: 2025-11-10 16:05:06 -0500 (Mon, 10 Nov 2025) EllapsedTime: 10.1 seconds RetCode: 0 Status: OK PackageFile: ctsGE_1.36.0.tar.gz PackageFileSize: 1.133 MiB