Package: ctsGE Version: 1.36.0 Command: rm -rf ctsGE.buildbin-libdir && mkdir ctsGE.buildbin-libdir && /Users/biocbuild/BBS/utils/build-universal.sh ctsGE_1.36.0.tar.gz /Library/Frameworks/R.framework/Resources/bin/R ctsGE.buildbin-libdir StartedAt: 2025-11-10 23:16:44 -0500 (Mon, 10 Nov 2025) EndedAt: 2025-11-10 23:16:49 -0500 (Mon, 10 Nov 2025) EllapsedTime: 4.1 seconds RetCode: 0 Status: OK PackageFile: ctsGE_1.36.0.tgz PackageFileSize: 1.171 MiB