Package: ctc Version: 1.84.0 Command: /home/biocbuild/bbs-3.22-bioc/R/bin/R CMD INSTALL ctc StartedAt: 2025-11-11 15:07:30 -0500 (Tue, 11 Nov 2025) EndedAt: 2025-11-11 15:07:55 -0500 (Tue, 11 Nov 2025) EllapsedTime: 24.1 seconds RetCode: 0 Status: OK