Package: ctc Version: 1.84.0 Command: /home/biocbuild/bbs-3.22-bioc/R/bin/R CMD check --install=check:ctc.install-out.txt --library=/home/biocbuild/bbs-3.22-bioc/R/site-library --timings ctc_1.84.0.tar.gz StartedAt: 2025-11-13 22:39:01 -0500 (Thu, 13 Nov 2025) EndedAt: 2025-11-13 22:39:19 -0500 (Thu, 13 Nov 2025) EllapsedTime: 18.0 seconds RetCode: 0 Status: OK CheckDir: ctc.Rcheck Warnings: 0