Package: ctc Version: 1.84.0 Command: /home/biocbuild/bbs-3.22-bioc/R/bin/R CMD build --keep-empty-dirs --no-resave-data --md5 ctc StartedAt: 2025-11-11 17:10:23 -0500 (Tue, 11 Nov 2025) EndedAt: 2025-11-11 17:10:28 -0500 (Tue, 11 Nov 2025) EllapsedTime: 5.0 seconds RetCode: 0 Status: OK PackageFile: ctc_1.84.0.tar.gz PackageFileSize: 271.5 KiB