Package: ctc Version: 1.84.0 Command: /Library/Frameworks/R.framework/Resources/bin/R CMD INSTALL ctc StartedAt: 2025-11-03 15:10:17 -0500 (Mon, 03 Nov 2025) EndedAt: 2025-11-03 15:10:55 -0500 (Mon, 03 Nov 2025) EllapsedTime: 38.2 seconds RetCode: 0 Status: OK