Package: ctc Version: 1.84.0 Command: /Library/Frameworks/R.framework/Resources/bin/R CMD build --keep-empty-dirs --no-resave-data ctc StartedAt: 2025-10-30 16:32:46 -0400 (Thu, 30 Oct 2025) EndedAt: 2025-10-30 16:32:55 -0400 (Thu, 30 Oct 2025) EllapsedTime: 9.1 seconds RetCode: 0 Status: OK PackageFile: ctc_1.84.0.tar.gz PackageFileSize: 269.9 KiB