Package: ctc Version: 1.84.0 Command: rm -rf ctc.buildbin-libdir && mkdir ctc.buildbin-libdir && /Users/biocbuild/BBS/utils/build-universal.sh ctc_1.84.0.tar.gz /Library/Frameworks/R.framework/Resources/bin/R ctc.buildbin-libdir StartedAt: 2025-11-01 01:29:29 -0400 (Sat, 01 Nov 2025) EndedAt: 2025-11-01 01:29:35 -0400 (Sat, 01 Nov 2025) EllapsedTime: 5.7 seconds RetCode: 0 Status: OK PackageFile: ctc_1.84.0.tgz PackageFileSize: 318.6 KiB