Package: ctc Version: 1.82.0 Command: /home/biocbuild/R/R/bin/R CMD INSTALL ctc StartedAt: 2025-10-02 20:14:22 -0000 (Thu, 02 Oct 2025) EndedAt: 2025-10-02 20:14:50 -0000 (Thu, 02 Oct 2025) EllapsedTime: 28.7 seconds RetCode: 0 Status: OK