Package: csdR Version: 1.16.0 Command: /home/biocbuild/R/R/bin/R CMD INSTALL csdR StartedAt: 2025-11-10 21:57:45 -0000 (Mon, 10 Nov 2025) EndedAt: 2025-11-10 21:58:29 -0000 (Mon, 10 Nov 2025) EllapsedTime: 44.6 seconds RetCode: 0 Status: OK