Package: csdR Version: 1.16.0 Command: /home/biocbuild/R/R/bin/R CMD build --keep-empty-dirs --no-resave-data csdR StartedAt: 2025-11-11 00:51:51 -0000 (Tue, 11 Nov 2025) EndedAt: 2025-11-11 00:53:16 -0000 (Tue, 11 Nov 2025) EllapsedTime: 85.1 seconds RetCode: 0 Status: OK PackageFile: csdR_1.16.0.tar.gz PackageFileSize: 1.388 MiB