Package: csdR Version: 1.16.0 Command: /home/biocbuild/bbs-3.22-bioc/R/bin/R CMD check --install=check:csdR.install-out.txt --library=/home/biocbuild/bbs-3.22-bioc/R/site-library --timings csdR_1.16.0.tar.gz StartedAt: 2025-11-11 22:39:41 -0500 (Tue, 11 Nov 2025) EndedAt: 2025-11-11 22:44:26 -0500 (Tue, 11 Nov 2025) EllapsedTime: 285.2 seconds RetCode: 0 Status: OK CheckDir: csdR.Rcheck Warnings: 0