Package: csdR Version: 1.16.0 Command: /Library/Frameworks/R.framework/Resources/bin/R CMD check --install=check:csdR.install-out.txt --library=/Library/Frameworks/R.framework/Resources/library --no-vignettes --timings csdR_1.16.0.tar.gz StartedAt: 2025-11-02 19:13:23 -0500 (Sun, 02 Nov 2025) EndedAt: 2025-11-02 19:15:52 -0500 (Sun, 02 Nov 2025) EllapsedTime: 148.7 seconds RetCode: 0 Status: OK CheckDir: csdR.Rcheck Warnings: 0