Package: csaw Version: 1.44.0 Command: /home/biocbuild/R/R/bin/R CMD INSTALL csaw StartedAt: 2025-11-13 21:24:09 -0000 (Thu, 13 Nov 2025) EndedAt: 2025-11-13 21:25:55 -0000 (Thu, 13 Nov 2025) EllapsedTime: 106.3 seconds RetCode: 0 Status: OK