Package: csaw Version: 1.44.0 Command: /home/biocbuild/R/R/bin/R CMD build --keep-empty-dirs --no-resave-data csaw StartedAt: 2025-11-14 00:58:01 -0000 (Fri, 14 Nov 2025) EndedAt: 2025-11-14 01:00:01 -0000 (Fri, 14 Nov 2025) EllapsedTime: 120.0 seconds RetCode: 0 Status: OK PackageFile: csaw_1.44.0.tar.gz PackageFileSize: 416.4 KiB