Package: csaw Version: 1.44.0 Command: /home/biocbuild/bbs-3.22-bioc/R/bin/R CMD check --install=check:csaw.install-out.txt --library=/home/biocbuild/bbs-3.22-bioc/R/site-library --timings csaw_1.44.0.tar.gz StartedAt: 2025-11-11 22:39:30 -0500 (Tue, 11 Nov 2025) EndedAt: 2025-11-11 22:46:51 -0500 (Tue, 11 Nov 2025) EllapsedTime: 441.3 seconds RetCode: 0 Status: OK CheckDir: csaw.Rcheck Warnings: 0