Package: csaw Version: 1.44.0 Command: /home/biocbuild/bbs-3.22-bioc/R/bin/R CMD build --keep-empty-dirs --no-resave-data --md5 csaw StartedAt: 2025-11-11 17:09:41 -0500 (Tue, 11 Nov 2025) EndedAt: 2025-11-11 17:11:05 -0500 (Tue, 11 Nov 2025) EllapsedTime: 84.1 seconds RetCode: 0 Status: OK PackageFile: csaw_1.44.0.tar.gz PackageFileSize: 392.5 KiB