Back to Multiple platform build/check report for BioC 3.22:   simplified   long
AB[C]DEFGHIJKLMNOPQRSTUVWXYZ

This page was generated on 2025-11-12 11:57 -0500 (Wed, 12 Nov 2025).

HostnameOSArch (*)R versionInstalled pkgs
nebbiolo2Linux (Ubuntu 24.04.3 LTS)x86_644.5.1 Patched (2025-08-23 r88802) -- "Great Square Root" 4902
taishanLinux (openEuler 24.03 LTS)aarch644.5.0 (2025-04-11) -- "How About a Twenty-Six" 4668
Click on any hostname to see more info about the system (e.g. compilers)      (*) as reported by 'uname -p', except on Windows and Mac OS X

All results for package csaw


To the developers/maintainers of the csaw package:
- Allow up to 24 hours (and sometimes 48 hours) for your latest push to git@git.bioconductor.org:packages/csaw.git to reflect on this report. See Troubleshooting Build Report for more information.
- Use the following Renviron settings to reproduce errors and warnings.
- If 'R CMD check' started to fail recently on the Linux builder(s) over a missing dependency, add the missing dependency to 'Suggests:' in your DESCRIPTION file. See Renviron.bioc for more information.

raw results

Package 484/2361HostnameOS / ArchINSTALLBUILDCHECKBUILD BIN
csaw 1.44.0  (landing page)
Aaron Lun
Snapshot Date: 2025-11-11 13:45 -0500 (Tue, 11 Nov 2025)
git_url: https://git.bioconductor.org/packages/csaw
git_branch: RELEASE_3_22
git_last_commit: 592497a
git_last_commit_date: 2025-10-29 10:22:21 -0500 (Wed, 29 Oct 2025)
nebbiolo2Linux (Ubuntu 24.04.3 LTS) / x86_64  OK    OK    OK  UNNEEDED, same version is already published
taishanLinux (openEuler 24.03 LTS) / aarch64  OK    OK    OK  



Results for Bioconductor software packages that depend directly on package csaw

QUICK STATSOS / ArchINSTALLBUILDCHECKBUILD BIN
nebbiolo2Linux (Ubuntu 24.04.3 LTS) / x86_64
007
007
0025
taishanLinux (openEuler 24.03 LTS) / aarch64
007
007
0025
Package 1/7HostnameOS / ArchINSTALLBUILDCHECKBUILD BIN
diffHic 1.42.0  (landing page)
Aaron Lun , Gordon Smyth , Hannah Coughlin
git_last_commit: d1e2c99
git_last_commit_date: 2025-10-29 10:25:47 -0500
nebbiolo2Linux (Ubuntu 24.04.3 LTS) / x86_64  OK    OK    OK  UNNEEDED, same version is already published
taishanLinux (openEuler 24.03 LTS) / aarch64  OK    OK    OK  
Package 2/7HostnameOS / ArchINSTALLBUILDCHECKBUILD BIN
epigraHMM 1.18.0  (landing page)
Pedro Baldoni
git_last_commit: d390572
git_last_commit_date: 2025-10-29 11:09:46 -0500
nebbiolo2Linux (Ubuntu 24.04.3 LTS) / x86_64  OK    OK    WARNINGS  UNNEEDED, same version is already published
taishanLinux (openEuler 24.03 LTS) / aarch64  OK    OK    WARNINGS  
Package 3/7HostnameOS / ArchINSTALLBUILDCHECKBUILD BIN
extraChIPs 1.14.0  (landing page)
Stevie Pederson
git_last_commit: 9b0567a
git_last_commit_date: 2025-10-29 11:16:32 -0500
nebbiolo2Linux (Ubuntu 24.04.3 LTS) / x86_64  OK    OK    OK  UNNEEDED, same version is already published
taishanLinux (openEuler 24.03 LTS) / aarch64  OK    OK    OK  
Package 4/7HostnameOS / ArchINSTALLBUILDCHECKBUILD BIN
icetea 1.28.0  (landing page)
Vivek Bhardwaj
git_last_commit: f7f280d
git_last_commit_date: 2025-10-29 10:45:57 -0500
nebbiolo2Linux (Ubuntu 24.04.3 LTS) / x86_64  OK    OK    WARNINGS  UNNEEDED, same version is already published
taishanLinux (openEuler 24.03 LTS) / aarch64  OK    OK    WARNINGS  
Package 5/7HostnameOS / ArchINSTALLBUILDCHECKBUILD BIN
mutscan 1.0.0  (landing page)
Charlotte Soneson
git_last_commit: 79672e3
git_last_commit_date: 2025-10-29 11:37:32 -0500
nebbiolo2Linux (Ubuntu 24.04.3 LTS) / x86_64  OK    OK    OK  UNNEEDED, same version is already published
taishanLinux (openEuler 24.03 LTS) / aarch64  OK    OK    OK  
Package 6/7HostnameOS / ArchINSTALLBUILDCHECKBUILD BIN
NADfinder 1.34.0  (landing page)
Jianhong Ou
git_last_commit: 24bbc3f
git_last_commit_date: 2025-10-29 10:37:48 -0500
nebbiolo2Linux (Ubuntu 24.04.3 LTS) / x86_64  OK    OK    OK  UNNEEDED, same version is already published
taishanLinux (openEuler 24.03 LTS) / aarch64  OK    OK    OK  
Package 7/7HostnameOS / ArchINSTALLBUILDCHECKBUILD BIN
vulcan 1.32.0  (landing page)
Federico M. Giorgi
git_last_commit: 55315e7
git_last_commit_date: 2025-10-29 10:41:08 -0500
nebbiolo2Linux (Ubuntu 24.04.3 LTS) / x86_64  OK    OK    OK  UNNEEDED, same version is already published
taishanLinux (openEuler 24.03 LTS) / aarch64  OK    OK    OK