Package: crupR Version: 1.2.0 Command: /home/biocbuild/R/R/bin/R CMD INSTALL crupR StartedAt: 2025-11-13 22:09:13 -0000 (Thu, 13 Nov 2025) EndedAt: 2025-11-13 22:10:05 -0000 (Thu, 13 Nov 2025) EllapsedTime: 51.8 seconds RetCode: 0 Status: OK