Package: crupR Version: 1.2.0 Command: /home/biocbuild/R/R/bin/R CMD build --keep-empty-dirs --no-resave-data crupR StartedAt: 2025-11-14 00:57:40 -0000 (Fri, 14 Nov 2025) EndedAt: 2025-11-14 01:11:12 -0000 (Fri, 14 Nov 2025) EllapsedTime: 812.0 seconds RetCode: 0 Status: OK PackageFile: crupR_1.2.0.tar.gz PackageFileSize: 4.156 MiB