Package: crupR Version: 1.1.1 Command: F:\biocbuild\bbs-3.22-bioc\R\bin\R.exe CMD INSTALL crupR StartedAt: 2025-08-14 17:03:30 -0400 (Thu, 14 Aug 2025) EndedAt: 2025-08-14 17:04:21 -0400 (Thu, 14 Aug 2025) EllapsedTime: 51.5 seconds RetCode: 0 Status: OK