Package: crupR Version: 1.0.0 Command: rm -rf crupR.buildbin-libdir && mkdir crupR.buildbin-libdir && /Users/biocbuild/BBS/utils/build-universal.sh crupR_1.0.0.tar.gz /Library/Frameworks/R.framework/Resources/bin/R crupR.buildbin-libdir StartedAt: 2025-04-22 00:40:32 -0400 (Tue, 22 Apr 2025) EndedAt: 2025-04-22 00:41:27 -0400 (Tue, 22 Apr 2025) EllapsedTime: 55.5 seconds RetCode: 0 Status: OK PackageFile: crupR_1.0.0.tgz PackageFileSize: 4.244 MiB