Package: crupR Version: 1.0.0 Command: /Library/Frameworks/R.framework/Resources/bin/R CMD INSTALL crupR StartedAt: 2025-10-13 18:31:24 -0400 (Mon, 13 Oct 2025) EndedAt: 2025-10-13 18:32:09 -0400 (Mon, 13 Oct 2025) EllapsedTime: 44.7 seconds RetCode: 0 Status: OK