Package: crupR Version: 1.0.0 Command: rm -rf crupR.buildbin-libdir && mkdir crupR.buildbin-libdir && /Users/biocbuild/BBS/utils/build-universal.sh crupR_1.0.0.tar.gz /Library/Frameworks/R.framework/Resources/bin/R crupR.buildbin-libdir StartedAt: 2025-10-15 18:04:09 -0400 (Wed, 15 Oct 2025) EndedAt: 2025-10-15 18:05:00 -0400 (Wed, 15 Oct 2025) EllapsedTime: 51.2 seconds RetCode: 0 Status: OK PackageFile: crupR_1.0.0.tgz PackageFileSize: 4.245 MiB