Package: crumblr Version: 1.2.0 Command: /Library/Frameworks/R.framework/Resources/bin/R CMD INSTALL crumblr StartedAt: 2025-11-10 15:31:05 -0500 (Mon, 10 Nov 2025) EndedAt: 2025-11-10 15:31:18 -0500 (Mon, 10 Nov 2025) EllapsedTime: 12.4 seconds RetCode: 0 Status: OK