Package: crumblr Version: 1.2.0 Command: /Library/Frameworks/R.framework/Resources/bin/R CMD build --keep-empty-dirs --no-resave-data crumblr StartedAt: 2025-11-10 16:03:56 -0500 (Mon, 10 Nov 2025) EndedAt: 2025-11-10 16:04:41 -0500 (Mon, 10 Nov 2025) EllapsedTime: 45.5 seconds RetCode: 0 Status: OK PackageFile: crumblr_1.2.0.tar.gz PackageFileSize: 1.828 MiB