Package: crumblr Version: 1.2.0 Command: rm -rf crumblr.buildbin-libdir && mkdir crumblr.buildbin-libdir && /Users/biocbuild/BBS/utils/build-universal.sh crumblr_1.2.0.tar.gz /Library/Frameworks/R.framework/Resources/bin/R crumblr.buildbin-libdir StartedAt: 2025-11-10 23:16:31 -0500 (Mon, 10 Nov 2025) EndedAt: 2025-11-10 23:16:44 -0500 (Mon, 10 Nov 2025) EllapsedTime: 13.2 seconds RetCode: 0 Status: OK PackageFile: crumblr_1.2.0.tgz PackageFileSize: 1.883 MiB