Package: crlmm Version: 1.66.0 Command: /home/biocbuild/R/R/bin/R CMD build --keep-empty-dirs --no-resave-data crlmm StartedAt: 2025-10-13 23:56:42 -0000 (Mon, 13 Oct 2025) EndedAt: 2025-10-13 23:59:59 -0000 (Mon, 13 Oct 2025) EllapsedTime: 197.1 seconds RetCode: 0 Status: OK PackageFile: crlmm_1.66.0.tar.gz PackageFileSize: 4.26 MiB