Package: crlmm Version: 1.68.0 Command: /Library/Frameworks/R.framework/Resources/bin/R CMD build --keep-empty-dirs --no-resave-data crlmm StartedAt: 2025-11-02 16:03:55 -0500 (Sun, 02 Nov 2025) EndedAt: 2025-11-02 16:05:02 -0500 (Sun, 02 Nov 2025) EllapsedTime: 66.7 seconds RetCode: 0 Status: OK PackageFile: crlmm_1.68.0.tar.gz PackageFileSize: 4.276 MiB