Package: crisprViz Version: 1.12.0 Command: /home/biocbuild/bbs-3.22-bioc/R/bin/R CMD INSTALL crisprViz StartedAt: 2025-11-17 18:01:11 -0500 (Mon, 17 Nov 2025) EndedAt: 2025-11-17 18:02:10 -0500 (Mon, 17 Nov 2025) EllapsedTime: 59.5 seconds RetCode: 0 Status: OK