Package: crisprViz Version: 1.12.0 Command: /home/biocbuild/bbs-3.22-bioc/R/bin/R CMD build --keep-empty-dirs --no-resave-data --md5 crisprViz StartedAt: 2025-11-17 20:24:01 -0500 (Mon, 17 Nov 2025) EndedAt: 2025-11-17 20:26:28 -0500 (Mon, 17 Nov 2025) EllapsedTime: 147.1 seconds RetCode: 0 Status: OK PackageFile: crisprViz_1.12.0.tar.gz PackageFileSize: 1.257 MiB