Package: crisprVerse Version: 1.12.0 Command: /home/biocbuild/bbs-3.22-bioc/R/bin/R CMD build --keep-empty-dirs --no-resave-data --md5 crisprVerse StartedAt: 2025-10-31 17:14:40 -0400 (Fri, 31 Oct 2025) EndedAt: 2025-10-31 17:15:48 -0400 (Fri, 31 Oct 2025) EllapsedTime: 68.1 seconds RetCode: 0 Status: OK PackageFile: crisprVerse_1.12.0.tar.gz PackageFileSize: 296.5 KiB