Package: crisprShiny Version: 1.6.0 Command: /home/biocbuild/bbs-3.22-bioc/R/bin/R CMD build --keep-empty-dirs --no-resave-data --md5 crisprShiny StartedAt: 2025-11-13 17:06:11 -0500 (Thu, 13 Nov 2025) EndedAt: 2025-11-13 17:07:17 -0500 (Thu, 13 Nov 2025) EllapsedTime: 66.1 seconds RetCode: 0 Status: OK PackageFile: crisprShiny_1.6.0.tar.gz PackageFileSize: 1.584 MiB