Package: crisprScore Version: 1.14.0 Command: /home/biocbuild/bbs-3.22-bioc/R/bin/R CMD check --install=check:crisprScore.install-out.txt --library=/home/biocbuild/bbs-3.22-bioc/R/site-library --timings crisprScore_1.14.0.tar.gz StartedAt: 2025-11-14 22:37:22 -0500 (Fri, 14 Nov 2025) EndedAt: 2025-11-14 22:39:53 -0500 (Fri, 14 Nov 2025) EllapsedTime: 150.1 seconds RetCode: 0 Status: OK CheckDir: crisprScore.Rcheck Warnings: 0