Package: crisprScore Version: 1.14.0 Command: /home/biocbuild/bbs-3.22-bioc/R/bin/R CMD build --keep-empty-dirs --no-resave-data --md5 crisprScore StartedAt: 2025-11-11 17:08:05 -0500 (Tue, 11 Nov 2025) EndedAt: 2025-11-11 17:08:30 -0500 (Tue, 11 Nov 2025) EllapsedTime: 25.0 seconds RetCode: 0 Status: OK PackageFile: crisprScore_1.14.0.tar.gz PackageFileSize: 4.514 MiB