Package: crisprScore Version: 1.14.0 Command: /Library/Frameworks/R.framework/Resources/bin/R CMD INSTALL crisprScore StartedAt: 2025-11-03 15:30:10 -0500 (Mon, 03 Nov 2025) EndedAt: 2025-11-03 15:30:33 -0500 (Mon, 03 Nov 2025) EllapsedTime: 23.0 seconds RetCode: 0 Status: OK