Package: crisprScore Version: 1.14.0 Command: rm -rf crisprScore.buildbin-libdir && mkdir crisprScore.buildbin-libdir && /Users/biocbuild/BBS/utils/build-universal.sh crisprScore_1.14.0.tar.gz /Library/Frameworks/R.framework/Resources/bin/R crisprScore.buildbin-libdir StartedAt: 2025-11-04 01:34:52 -0500 (Tue, 04 Nov 2025) EndedAt: 2025-11-04 01:35:20 -0500 (Tue, 04 Nov 2025) EllapsedTime: 27.2 seconds RetCode: 0 Status: OK PackageFile: crisprScore_1.14.0.tgz PackageFileSize: 4.402 MiB